BEGIN:VCALENDAR
VERSION:2.0
PRODID:-//Mairie de Camon - ECPv6.15.20//NONSGML v1.0//EN
CALSCALE:GREGORIAN
METHOD:PUBLISH
X-ORIGINAL-URL:https://www.camon.fr
X-WR-CALDESC:Évènements pour Mairie de Camon
REFRESH-INTERVAL;VALUE=DURATION:PT1H
X-Robots-Tag:noindex
X-PUBLISHED-TTL:PT1H
BEGIN:VTIMEZONE
TZID:Europe/Paris
BEGIN:DAYLIGHT
TZOFFSETFROM:+0100
TZOFFSETTO:+0200
TZNAME:CEST
DTSTART:20230326T010000
END:DAYLIGHT
BEGIN:STANDARD
TZOFFSETFROM:+0200
TZOFFSETTO:+0100
TZNAME:CET
DTSTART:20231029T010000
END:STANDARD
BEGIN:DAYLIGHT
TZOFFSETFROM:+0100
TZOFFSETTO:+0200
TZNAME:CEST
DTSTART:20240331T010000
END:DAYLIGHT
BEGIN:STANDARD
TZOFFSETFROM:+0200
TZOFFSETTO:+0100
TZNAME:CET
DTSTART:20241027T010000
END:STANDARD
BEGIN:DAYLIGHT
TZOFFSETFROM:+0100
TZOFFSETTO:+0200
TZNAME:CEST
DTSTART:20250330T010000
END:DAYLIGHT
BEGIN:STANDARD
TZOFFSETFROM:+0200
TZOFFSETTO:+0100
TZNAME:CET
DTSTART:20251026T010000
END:STANDARD
END:VTIMEZONE
BEGIN:VEVENT
DTSTART;TZID=Europe/Paris:20241207T100000
DTEND;TZID=Europe/Paris:20241207T190000
DTSTAMP:20260422T142059
CREATED:20241104T112223Z
LAST-MODIFIED:20241104T112848Z
UID:8839-1733565600-1733598000@www.camon.fr
SUMMARY:Concours de Manille
DESCRIPTION:Le Comité du Personnel de la Mairie de Camon organise un concours de Manille le Samedi 7 décembre 2024. \nDébut des Jeux 10h00 \n7€ par joueur. \nPossibilité de manger sans jouer : Apéritif offert\, tartiflette\, salade\, dessert et Café : 18 euros le repas.
URL:https://www.camon.fr/evenement/concours-de-manille/
LOCATION:Salle Aragon\, Camon
CATEGORIES:Concours de Manille
END:VEVENT
END:VCALENDAR