BEGIN:VCALENDAR
VERSION:2.0
PRODID:-//Mairie de Camon - ECPv6.15.20//NONSGML v1.0//EN
CALSCALE:GREGORIAN
METHOD:PUBLISH
X-ORIGINAL-URL:https://www.camon.fr
X-WR-CALDESC:Évènements pour Mairie de Camon
REFRESH-INTERVAL;VALUE=DURATION:PT1H
X-Robots-Tag:noindex
X-PUBLISHED-TTL:PT1H
BEGIN:VTIMEZONE
TZID:Europe/Paris
BEGIN:DAYLIGHT
TZOFFSETFROM:+0100
TZOFFSETTO:+0200
TZNAME:CEST
DTSTART:20250330T010000
END:DAYLIGHT
BEGIN:STANDARD
TZOFFSETFROM:+0200
TZOFFSETTO:+0100
TZNAME:CET
DTSTART:20251026T010000
END:STANDARD
BEGIN:DAYLIGHT
TZOFFSETFROM:+0100
TZOFFSETTO:+0200
TZNAME:CEST
DTSTART:20260329T010000
END:DAYLIGHT
BEGIN:STANDARD
TZOFFSETFROM:+0200
TZOFFSETTO:+0100
TZNAME:CET
DTSTART:20261025T010000
END:STANDARD
BEGIN:DAYLIGHT
TZOFFSETFROM:+0100
TZOFFSETTO:+0200
TZNAME:CEST
DTSTART:20270328T010000
END:DAYLIGHT
BEGIN:STANDARD
TZOFFSETFROM:+0200
TZOFFSETTO:+0100
TZNAME:CET
DTSTART:20271031T010000
END:STANDARD
END:VTIMEZONE
BEGIN:VEVENT
DTSTART;TZID=Europe/Paris:20260328T093000
DTEND;TZID=Europe/Paris:20260328T170000
DTSTAMP:20260421T130938
CREATED:20260302T152800Z
LAST-MODIFIED:20260302T152843Z
UID:16067-1774690200-1774717200@www.camon.fr
SUMMARY:Concours de Manille
DESCRIPTION:
URL:https://www.camon.fr/evenement/concours-de-manille-2/
LOCATION:Salle Bruxelle\, rue Nationale\, CAMON\, 80450
CATEGORIES:Concours de Manille
ATTACH;FMTTYPE=image/png:https://www.camon.fr/wp-content/uploads/2026/03/concours-de-manille-ASLC.png
END:VEVENT
END:VCALENDAR